BEGIN:VCALENDAR
VERSION:2.0
CALSCALE:GREGORIAN
PRODID:-//DiputaciÃ³ de Barcelona//DibaCMS//EN
BEGIN:VEVENT
UID:50776
DTSTAMP:20260424T023226
DTSTART:20140718T190000
DTEND:20140718T190000
SUMMARY:Masterclass de zumba
LOCATION:Plaça dels Països Catalans 
METHOD:PUBLISH
X-WR-CALNAME:info@llinarsdelvalles.cat
X-WR-TIMEZONE:Europe/Madrid
DESCRIPTION:
URI:https://www.llinarsdelvalles.cat/actualitat/agenda/masterclass-de-zumba.html
CLASS:PUBLIC
END:VEVENT
END:VCALENDAR
