BEGIN:VCALENDAR
VERSION:2.0
CALSCALE:GREGORIAN
PRODID:-//DiputaciÃ³ de Barcelona//DibaCMS//EN
BEGIN:VEVENT
UID:50777
DTSTAMP:20260424T023604
DTSTART:20140718T210000
DTEND:20140718T210000
SUMMARY:Sopar de "cabÃ s" a la fresca
LOCATION:Pati de Can Mas Bagà 
METHOD:PUBLISH
X-WR-CALNAME:info@llinarsdelvalles.cat
X-WR-TIMEZONE:Europe/Madrid
DESCRIPTION:Tothom es porta el sopar i la Colla Giola posa les postres
Organitza: Colla Giola
URI:https://www.llinarsdelvalles.cat/actualitat/agenda/sopar-de-cabas-a-la-fresca.html
CLASS:PUBLIC
END:VEVENT
END:VCALENDAR
