BEGIN:VCALENDAR
VERSION:2.0
CALSCALE:GREGORIAN
PRODID:-//Diputació de Barcelona//DibaCMS//EN
BEGIN:VEVENT
UID:50786
DTSTAMP:20260424T023731
DTSTART:20140719T223000
DTEND:20140719T223000
SUMMARY:Cinema "Car" a la fresca
LOCATION:Camps de l'Illa 
METHOD:PUBLISH
X-WR-CALNAME:info@llinarsdelvalles.cat
X-WR-TIMEZONE:Europe/Madrid
DESCRIPTION:Vine amb cotxe als camps de l'Illa a veure una pel.lícula
Hi haurà servei de bar i crispetes
Organitza: Deixebles de la Kabra
URI:https://www.llinarsdelvalles.cat/actualitat/agenda/cinema-car-a-la-fresca.html
CLASS:PUBLIC
END:VEVENT
END:VCALENDAR
