BEGIN:VCALENDAR
VERSION:2.0
CALSCALE:GREGORIAN
PRODID:-//Diputació de Barcelona//DibaCMS//EN
BEGIN:VEVENT
UID:50787
DTSTAMP:20260424T044615
DTSTART:20140720T083000
DTEND:20140720T083000
SUMMARY:Pedalada popular
LOCATION:Av. Pau Casals, 18-20 (Àrea central) 08450 Llinars del Vallès
METHOD:PUBLISH
X-WR-CALNAME:info@llinarsdelvalles.cat
X-WR-TIMEZONE:Europe/Madrid
DESCRIPTION:Inscripcions anticipades fent l'ingrés al número de compte ES74 0182 3650 2002 0154 6950 indicant el nom de la persona i el número de participants.
Organitza: Club ciclista la Perdiu
URI:https://www.llinarsdelvalles.cat/actualitat/agenda/pedalada-popular.html
CLASS:PUBLIC
END:VEVENT
END:VCALENDAR
