BEGIN:VCALENDAR
VERSION:2.0
CALSCALE:GREGORIAN
PRODID:-//Diputació de Barcelona//DibaCMS//EN
BEGIN:VEVENT
UID:50935
DTSTAMP:20260421T165618
DTSTART:20141025T110000
DTEND:20141025T110000
SUMMARY:L'hora dels nadons "Storytimes for babies: Mousy and the big red ball" a càrrec de Kids and Us
LOCATION:Av. Pau Casals, 26 08450 Llinars del Vallès
METHOD:PUBLISH
X-WR-CALNAME:info@llinarsdelvalles.cat
X-WR-TIMEZONE:Europe/Madrid
DESCRIPTION:Infants d'1 a 2 anys. Inscripció prèvia. Màxim 15 famílies
Durada: 30 minuts
 
URI:https://www.llinarsdelvalles.cat/actualitat/agenda/lhora-dels-nadons-storytimes-for-babies-mousy-and-the-big-red-ball-a-carrec-de-kids-and-us.html
CLASS:PUBLIC
END:VEVENT
END:VCALENDAR
