BEGIN:VCALENDAR
VERSION:2.0
CALSCALE:GREGORIAN
PRODID:-//Diputació de Barcelona//DibaCMS//EN
BEGIN:VEVENT
UID:53564
DTSTAMP:20260426T054847
DTSTART:20180112T180000
DTEND:20180112T180000
SUMMARY:BIB-CREA. ESPAIS D'EXPERIMENTACIÓ I CREATIVITAT "Puzzle de ninot de neu" a càrrec de Laura Calero
LOCATION:Av. Pau Casals, 26 08450 Llinars del Vallès
METHOD:PUBLISH
X-WR-CALNAME:info@llinarsdelvalles.cat
X-WR-TIMEZONE:Europe/Madrid
DESCRIPTION:A les 18 h a la Sala d’actes de la BibliotecaA partir de 5 anys. Inscripció prèviaMàxim 25 participants
URI:https://www.llinarsdelvalles.cat/actualitat/agenda/bib-crea-espais-dexperimentacio-i-creativitat-puzzle-de-ninot-de-neu-a-carrec-de-laura-calero.html
CLASS:PUBLIC
END:VEVENT
END:VCALENDAR
