BEGIN:VCALENDAR
VERSION:2.0
CALSCALE:GREGORIAN
PRODID:-//Diputació de Barcelona//DibaCMS//EN
BEGIN:VEVENT
UID:53689
DTSTAMP:20260426T030805
DTSTART:20180223T180000
DTEND:20180223T180000
SUMMARY:L'HORA DEL CONTE "Em feu un lloc i altres contes d'hivern" a càrrec de la Cia. Patawa
LOCATION:Av. Pau Casals, 26 08450 Llinars del Vallès
METHOD:PUBLISH
X-WR-CALNAME:info@llinarsdelvalles.cat
X-WR-TIMEZONE:Europe/Madrid
DESCRIPTION:Adreçat a infants a partir de 3 anys
URI:https://www.llinarsdelvalles.cat/actualitat/agenda/2018-02-23-lhora-del-conte-em-feu-un-lloc-i-altres-contes-dhivern-a-carrec-de-la-cia-patawa.html
CLASS:PUBLIC
END:VEVENT
END:VCALENDAR
