BEGIN:VCALENDAR
VERSION:2.0
CALSCALE:GREGORIAN
PRODID:-//Diputació de Barcelona//DibaCMS//EN
BEGIN:VEVENT
UID:53690
DTSTAMP:20260426T043411
DTSTART:20180223T200000
DTEND:20180223T200000
SUMMARY:CINEMA V.O.S.E "El gran dictador" de Charles Chaplin
LOCATION:Ronda Sant Antoni, 19 08450 Llinars del Vallès
METHOD:PUBLISH
X-WR-CALNAME:info@llinarsdelvalles.cat
X-WR-TIMEZONE:Europe/Madrid
DESCRIPTION:Al Teatre Auditori
URI:https://www.llinarsdelvalles.cat/actualitat/agenda/2018-02-23-cinema-vose-el-gran-dictador-de-charles-chaplin.html
CLASS:PUBLIC
END:VEVENT
END:VCALENDAR
