BEGIN:VCALENDAR
VERSION:2.0
CALSCALE:GREGORIAN
PRODID:-//Diputació de Barcelona//DibaCMS//EN
BEGIN:VEVENT
UID:53691
DTSTAMP:20260426T041949
DTSTART:20180224T100000
DTEND:20180224T100000
SUMMARY:MARXA DE BANDES "De Can Lletres, per places i carrers de Llinars del Vallès"
LOCATION:Carrer Còrsega, 10 (Can Moix) 08450 Llinars del Vallès
METHOD:PUBLISH
X-WR-CALNAME:info@llinarsdelvalles.cat
X-WR-TIMEZONE:Europe/Madrid
DESCRIPTION:Al llarg del matí
URI:https://www.llinarsdelvalles.cat/actualitat/agenda/2018-02-24-marxa-de-bandes-de-can-lletres-per-places-i-carrers-de-llinars-del-valles.html
CLASS:PUBLIC
END:VEVENT
END:VCALENDAR
