BEGIN:VCALENDAR
VERSION:2.0
CALSCALE:GREGORIAN
PRODID:-//Diputació de Barcelona//DibaCMS//EN
BEGIN:VEVENT
UID:53692
DTSTAMP:20260426T041913
DTSTART:20180224T103000
DTEND:20180224T103000
SUMMARY:TALLER FAMILIAR. ELS MENUTS DE CAN LLETRES "Teixim mandales gegants"
LOCATION:C/ Josep Argila, 39 08450 Llinars del Vallés
METHOD:PUBLISH
X-WR-CALNAME:info@llinarsdelvalles.cat
X-WR-TIMEZONE:Europe/Madrid
DESCRIPTION:A Can Lletres
URI:https://www.llinarsdelvalles.cat/actualitat/agenda/2018-02-24-taller-familiar-els-menuts-de-can-lletres-teixim-mandales-gegants.html
CLASS:PUBLIC
END:VEVENT
END:VCALENDAR
