BEGIN:VCALENDAR
VERSION:2.0
CALSCALE:GREGORIAN
PRODID:-//Diputació de Barcelona//DibaCMS//EN
BEGIN:VEVENT
UID:53693
DTSTAMP:20260426T055948
DTSTART:20180224T113000
DTEND:20180224T113000
SUMMARY:L'HORA DELS NADONS "Miquelot, el mariner i la seva capseta de música" a càrrec de Marta Catalán
LOCATION:Av. Pau Casals, 26 08450 Llinars del Vallès
METHOD:PUBLISH
X-WR-CALNAME:info@llinarsdelvalles.cat
X-WR-TIMEZONE:Europe/Madrid
DESCRIPTION:A la Biblioteca
URI:https://www.llinarsdelvalles.cat/actualitat/agenda/2018-02-24-lhora-dels-nadons-miquelot-el-mariner-i-la-seva-capseta-de-musica-a-carrec-de-marta-catalan.html
CLASS:PUBLIC
END:VEVENT
END:VCALENDAR
