BEGIN:VCALENDAR
VERSION:2.0
CALSCALE:GREGORIAN
PRODID:-//Diputació de Barcelona//DibaCMS//EN
BEGIN:VEVENT
UID:53696
DTSTAMP:20260426T055620
DTSTART:20180225T180000
DTEND:20180225T180000
SUMMARY:MÚSICA "Cantem: Les veus dels pobles" a càrrec del Cor de Cambra de Granollers
LOCATION:
METHOD:PUBLISH
X-WR-CALNAME:info@llinarsdelvalles.cat
X-WR-TIMEZONE:Europe/Madrid
DESCRIPTION:Al Teatre Auditori
URI:https://www.llinarsdelvalles.cat/actualitat/agenda/2018-02-25-musica-cantem-les-veus-dels-pobles-a-carrec-del-cor-de-cambra-de-granollers.html
CLASS:PUBLIC
END:VEVENT
END:VCALENDAR
