BEGIN:VCALENDAR
VERSION:2.0
CALSCALE:GREGORIAN
PRODID:-//Diputació de Barcelona//DibaCMS//EN
BEGIN:VEVENT
UID:53714
DTSTAMP:20260426T041215
DTSTART:20180304T180000
DTEND:20180304T180000
SUMMARY:TEATRE "El metge de Lampedusa" a càrrec de Xicu Masó
LOCATION:
METHOD:PUBLISH
X-WR-CALNAME:info@llinarsdelvalles.cat
X-WR-TIMEZONE:Europe/Madrid
DESCRIPTION:Aquest espectacle forma part de la celebració del tercer aniversari del TASi véns, et farem un regal!
URI:https://www.llinarsdelvalles.cat/actualitat/agenda/2018-03-04-teatre-el-metge-de-lampedusa-a-carrec-de-xicu-maso.html
CLASS:PUBLIC
END:VEVENT
END:VCALENDAR
