BEGIN:VCALENDAR
VERSION:2.0
CALSCALE:GREGORIAN
PRODID:-//Diputació de Barcelona//DibaCMS//EN
BEGIN:VEVENT
UID:53717
DTSTAMP:20260426T025143
DTSTART:20180317T170000
DTEND:20180317T170000
SUMMARY:1a REPRESENTACIÓ DE VENIU A MI. LA PASSIÓ DE LLINARS DEL VALLÈS. Grup de Teatre Till-Tall
LOCATION:Ronda Sant Antoni, 19 08450 Llinars del Vallès
METHOD:PUBLISH
X-WR-CALNAME:info@llinarsdelvalles.cat
X-WR-TIMEZONE:Europe/Madrid
DESCRIPTION:al Teatre Auditori de Llinars
URI:https://www.llinarsdelvalles.cat/actualitat/agenda/2018-03-17-veniu-a-mi-la-passio-de-llinars-del-valles-grup-de-teatre-till-tall.html
CLASS:PUBLIC
END:VEVENT
END:VCALENDAR
