BEGIN:VCALENDAR
VERSION:2.0
CALSCALE:GREGORIAN
PRODID:-//Diputació de Barcelona//DibaCMS//EN
BEGIN:VEVENT
UID:53725
DTSTAMP:20260426T025208
DTSTART:20180317T163000
DTEND:20180317T163000
SUMMARY:ELS MENUTS DE CAN LLETRES "Elaborem i decorem galetes de Pasqua"
LOCATION:C/ Josep Argila, 39 08450 Llinars del Vallés
METHOD:PUBLISH
X-WR-CALNAME:info@llinarsdelvalles.cat
X-WR-TIMEZONE:Europe/Madrid
DESCRIPTION:a Can Lletres
URI:https://www.llinarsdelvalles.cat/actualitat/agenda/2018-03-17-els-menuts-de-can-lletres-anem-a-cuinar-galetes-de-pasqua.html
CLASS:PUBLIC
END:VEVENT
END:VCALENDAR
