BEGIN:VCALENDAR
VERSION:2.0
CALSCALE:GREGORIAN
PRODID:-//Diputació de Barcelona//DibaCMS//EN
BEGIN:VEVENT
UID:53728
DTSTAMP:20260426T054808
DTSTART:20180311T100000
DTEND:20180311T100000
SUMMARY:TALLER FAMILIAR "La vida del llop a l'abast de tothom"
LOCATION:
METHOD:PUBLISH
X-WR-CALNAME:info@llinarsdelvalles.cat
X-WR-TIMEZONE:Europe/Madrid
DESCRIPTION:
URI:https://www.llinarsdelvalles.cat/actualitat/agenda/2018-03-11-taller-familiar-la-vida-del-llop-a-labast-de-tothom.html
CLASS:PUBLIC
END:VEVENT
END:VCALENDAR
