BEGIN:VCALENDAR
VERSION:2.0
CALSCALE:GREGORIAN
PRODID:-//Diputació de Barcelona//DibaCMS//EN
BEGIN:VEVENT
UID:53729
DTSTAMP:20260426T001057
DTSTART:20180309T180000
DTEND:20180309T180000
SUMMARY:BIB-CREA. Biblioteques amb DO "Raïm amb cartró ondulat" a càrrec de Laura Calero
LOCATION:Av. Pau Casals, 26 08450 Llinars del Vallès
METHOD:PUBLISH
X-WR-CALNAME:info@llinarsdelvalles.cat
X-WR-TIMEZONE:Europe/Madrid
DESCRIPTION:a la Biblioteca
URI:https://www.llinarsdelvalles.cat/actualitat/agenda/2018-03-09-bib-crea-biblioteques-amb-do-raim-amb-cartro-ondulat-a-carrec-de-laura-calero.html
CLASS:PUBLIC
END:VEVENT
END:VCALENDAR
