BEGIN:VCALENDAR
VERSION:2.0
CALSCALE:GREGORIAN
PRODID:-//Diputació de Barcelona//DibaCMS//EN
BEGIN:VEVENT
UID:53730
DTSTAMP:20260426T031019
DTSTART:20180310T103000
DTEND:20180310T103000
SUMMARY:CLUB DE LECTURA. GRUP A ·Secret candent" de Stefan Zweig a càrrec de Jose Luis Ibáñez
LOCATION:Av. Pau Casals, 26 08450 Llinars del Vallès
METHOD:PUBLISH
X-WR-CALNAME:info@llinarsdelvalles.cat
X-WR-TIMEZONE:Europe/Madrid
DESCRIPTION:a la Biblioteca
URI:https://www.llinarsdelvalles.cat/actualitat/agenda/2018-03-10-club-de-lectura-grup-a-secret-candent-de-stefan-zweig-a-carrec-de-jose-luis-ibanez.html
CLASS:PUBLIC
END:VEVENT
END:VCALENDAR
