BEGIN:VCALENDAR
VERSION:2.0
CALSCALE:GREGORIAN
PRODID:-//Diputació de Barcelona//DibaCMS//EN
BEGIN:VEVENT
UID:53731
DTSTAMP:20260426T013231
DTSTART:20180311T110000
DTEND:20180311T110000
SUMMARY:DIUMENGES A LA TORRASSA Taller de manualitats a càrrec de Glòria Bassa
LOCATION:08450 Llinars del Vallès
METHOD:PUBLISH
X-WR-CALNAME:info@llinarsdelvalles.cat
X-WR-TIMEZONE:Europe/Madrid
DESCRIPTION:a La Torrassa
URI:https://www.llinarsdelvalles.cat/actualitat/agenda/2018-03-11-diumenges-a-la-torrassa-taller-de-manualitats-a-carrec-de-gloria-bassa.html
CLASS:PUBLIC
END:VEVENT
END:VCALENDAR
