BEGIN:VCALENDAR
VERSION:2.0
CALSCALE:GREGORIAN
PRODID:-//Diputació de Barcelona//DibaCMS//EN
BEGIN:VEVENT
UID:53733
DTSTAMP:20260426T041026
DTSTART:20180316T190000
DTEND:20180316T190000
SUMMARY:CONTES PER A ADULTS "El viatge del vi" a càrrec d'Elisabeth Ulibarri
LOCATION:
METHOD:PUBLISH
X-WR-CALNAME:info@llinarsdelvalles.cat
X-WR-TIMEZONE:Europe/Madrid
DESCRIPTION:a la Biblioteca
URI:https://www.llinarsdelvalles.cat/actualitat/agenda/2018-03-16-contes-per-a-adults-el-viatge-del-vi-a-carrec-delisabeth-ulibarri.html
CLASS:PUBLIC
END:VEVENT
END:VCALENDAR
