BEGIN:VCALENDAR
VERSION:2.0
CALSCALE:GREGORIAN
PRODID:-//Diputació de Barcelona//DibaCMS//EN
BEGIN:VEVENT
UID:53745
DTSTAMP:20260426T041005
DTSTART:20180318T113000
DTEND:20180318T113000
SUMMARY:XXVIII TROBADA DE COLLES DE BALL DE GITANES
LOCATION:
METHOD:PUBLISH
X-WR-CALNAME:info@llinarsdelvalles.cat
X-WR-TIMEZONE:Europe/Madrid
DESCRIPTION:A la plaça dels Països Catalans.
Amb la participació de les colles de Parets, Polinyà, Santa Eulàlia de Ronçana i Llinars del Vallès.
URI:https://www.llinarsdelvalles.cat/actualitat/agenda/trobada-de-balls-de-gitanes.html
CLASS:PUBLIC
END:VEVENT
END:VCALENDAR
