BEGIN:VCALENDAR
VERSION:2.0
CALSCALE:GREGORIAN
PRODID:-//Diputació de Barcelona//DibaCMS//EN
BEGIN:VEVENT
UID:53750
DTSTAMP:20260426T055812
DTSTART:20180312T115300
DTEND:20180312T115300
SUMMARY:L'HORA DEL CONTE "Nens, nenes, nenes i nens" a càrrec de Marta Esmarats de la Cia. Rondallaire
LOCATION:Av. Pau Casals, 26 08450 Llinars del Vallès
METHOD:PUBLISH
X-WR-CALNAME:info@llinarsdelvalles.cat
X-WR-TIMEZONE:Europe/Madrid
DESCRIPTION:a la Biblioteca
URI:https://www.llinarsdelvalles.cat/actualitat/agenda/2018-03-12-lhora-del-conte-nens-nenes-nenes-i-nens-a-carrec-de-marta-esmarats-de-la-cia-rondallaire.html
CLASS:PUBLIC
END:VEVENT
END:VCALENDAR
