BEGIN:VCALENDAR
VERSION:2.0
CALSCALE:GREGORIAN
PRODID:-//Diputació de Barcelona//DibaCMS//EN
BEGIN:VEVENT
UID:53751
DTSTAMP:20260426T043315
DTSTART:20180324T113000
DTEND:20180324T113000
SUMMARY:L'HORA DELS NADONS "Poesia a la masia" a càrrec de Pamipipa 
LOCATION:Av. Pau Casals, 26 08450 Llinars del Vallès
METHOD:PUBLISH
X-WR-CALNAME:info@llinarsdelvalles.cat
X-WR-TIMEZONE:Europe/Madrid
DESCRIPTION:a la Biblioteca 
URI:https://www.llinarsdelvalles.cat/actualitat/agenda/2018-03-24-lhora-dels-nadons-poesia-a-la-masia-a-carrec-de-pamipipa-.html
CLASS:PUBLIC
END:VEVENT
END:VCALENDAR
