BEGIN:VCALENDAR
VERSION:2.0
CALSCALE:GREGORIAN
PRODID:-//Diputació de Barcelona//DibaCMS//EN
BEGIN:VEVENT
UID:53752
DTSTAMP:20260426T055838
DTSTART:20180324T080000
DTEND:20180324T080000
SUMMARY:CAMPIONAT DE CATALUNYA PER COMARQUES des d'aleví fins a juvenil + sènior femení
LOCATION:Av. Pau Casals, 22-24 (Àrea central) 08450 Llinars del Vallès
METHOD:PUBLISH
X-WR-CALNAME:info@llinarsdelvalles.cat
X-WR-TIMEZONE:Europe/Madrid
DESCRIPTION:a la Pista annexa
URI:https://www.llinarsdelvalles.cat/actualitat/agenda/campionat-de-catalunya-per-comarques-des-dalevi-fins-a-juvenil-senior-femeni.html
CLASS:PUBLIC
END:VEVENT
END:VCALENDAR
