BEGIN:VCALENDAR
VERSION:2.0
CALSCALE:GREGORIAN
PRODID:-//Diputació de Barcelona//DibaCMS//EN
BEGIN:VEVENT
UID:53753
DTSTAMP:20260426T043422
DTSTART:20180326T190000
DTEND:20180326T190000
SUMMARY:LLEGIR EL TEATRE "Que rebentin els actors de Gabriel Calderón" a càrrec de Marta Esmarats, actriu
LOCATION:
METHOD:PUBLISH
X-WR-CALNAME:info@llinarsdelvalles.cat
X-WR-TIMEZONE:Europe/Madrid
DESCRIPTION:a la Biblioteca
URI:https://www.llinarsdelvalles.cat/actualitat/agenda/2018-03-26-llegir-el-teatre-que-rebentin-els-actors-de-gabriel-calderon-a-carrec-de-marta-esmarats-actriu.html
CLASS:PUBLIC
END:VEVENT
END:VCALENDAR
