BEGIN:VCALENDAR
VERSION:2.0
CALSCALE:GREGORIAN
PRODID:-//DiputaciÃ³ de Barcelona//DibaCMS//EN
BEGIN:VEVENT
UID:53754
DTSTAMP:20260426T043351
DTSTART:20180322T190000
DTEND:20180322T190000
SUMMARY:XERRADA "Com aprenen els nostres fills a l'escola" a cÃ rrec de Boris Mir
LOCATION:Bar del Teatre Ateneu de Sant Celoni.
Carretera Vella, núm. 25.
08470 St. Celoni 
METHOD:PUBLISH
X-WR-CALNAME:info@llinarsdelvalles.cat
X-WR-TIMEZONE:Europe/Madrid
DESCRIPTION:L'Ajuntament de Llinars del VallÃ¨s, juntament amb els ajuntaments de Santa Maria de Palautordera i Sant Celoni, colÂ·laboren en la xerrada "Com aprenen els nostres fills a l'escola?" una reflexiÃ³ compartida amb les famÃ­lies a propÃ²sit del Programa Escola Nova 21
URI:https://www.llinarsdelvalles.cat/actualitat/agenda/xerrada-com-aprenen-els-nostres-fills-a-lescola-a-carrec-de-boris-mir.html
CLASS:PUBLIC
END:VEVENT
END:VCALENDAR
