BEGIN:VCALENDAR
VERSION:2.0
CALSCALE:GREGORIAN
PRODID:-//Diputació de Barcelona//DibaCMS//EN
BEGIN:VEVENT
UID:53760
DTSTAMP:20260426T041051
DTSTART:20180318T100000
DTEND:20180318T100000
SUMMARY:RENTADA DE COTXES al pàrquing del pavelló
LOCATION:
METHOD:PUBLISH
X-WR-CALNAME:info@llinarsdelvalles.cat
X-WR-TIMEZONE:Europe/Madrid
DESCRIPTION:de 10 a 14 h i de 16 a 19 h
URI:https://www.llinarsdelvalles.cat/actualitat/agenda/rentada-de-cotxes-al-parquing-del-pavello.html
CLASS:PUBLIC
END:VEVENT
END:VCALENDAR
