BEGIN:VCALENDAR
VERSION:2.0
CALSCALE:GREGORIAN
PRODID:-//Diputació de Barcelona//DibaCMS//EN
BEGIN:VEVENT
UID:53763
DTSTAMP:20260426T042751
DTSTART:20180405T190000
DTEND:20180405T190000
SUMMARY:XERRADA "La ciència de la cuina: física i química quotidianes" a càrrec de Claudi Mans, Catedràtic emèrit del Departament d'Enginyeria Química de la Universitat de Barcelona
LOCATION:Av. Pau Casals, 26 08450 Llinars del Vallès
METHOD:PUBLISH
X-WR-CALNAME:info@llinarsdelvalles.cat
X-WR-TIMEZONE:Europe/Madrid
DESCRIPTION:A la Biblioteca
URI:https://www.llinarsdelvalles.cat/actualitat/agenda/2018-04-05-xerrada-la-ciencia-de-la-cuina-fisica-i-quimica-quotidianes-a-carrec-de-claudi-mans-catedratic-emerit-del-departament-denginyeria-quimica-de-la-universitat-de-barcelona.html
CLASS:PUBLIC
END:VEVENT
END:VCALENDAR
