BEGIN:VCALENDAR
VERSION:2.0
CALSCALE:GREGORIAN
PRODID:-//Diputació de Barcelona//DibaCMS//EN
BEGIN:VEVENT
UID:53769
DTSTAMP:20260426T055522
DTSTART:20180407T220000
DTEND:20180407T220000
SUMMARY:CONCERT DE MÚSICA Grup de subversions amb Jaume Galve i Albert Hirujo  
LOCATION:
METHOD:PUBLISH
X-WR-CALNAME:info@llinarsdelvalles.cat
X-WR-TIMEZONE:Europe/Madrid
DESCRIPTION:A la Capella de Can Mas Bagà
URI:https://www.llinarsdelvalles.cat/actualitat/agenda/concert-de-musica-grup-de-subversions-amb-jaume-galve-i-albert-hirujo-.html
CLASS:PUBLIC
END:VEVENT
END:VCALENDAR
