BEGIN:VCALENDAR
VERSION:2.0
CALSCALE:GREGORIAN
PRODID:-//Diputació de Barcelona//DibaCMS//EN
BEGIN:VEVENT
UID:53770
DTSTAMP:20260426T054648
DTSTART:20180407T200000
DTEND:20180407T200000
SUMMARY:DANSA "Conseqüències" (2a sessió) a càrrec de la Cia Moveo. Dintre del Festival Zero
LOCATION:Ronda Sant Antoni, 19 08450 Llinars del Vallès
METHOD:PUBLISH
X-WR-CALNAME:info@llinarsdelvalles.cat
X-WR-TIMEZONE:Europe/Madrid
DESCRIPTION:A la Sala Tallers del Teatre Auditori
URI:https://www.llinarsdelvalles.cat/actualitat/agenda/2018-04-07-dansa-consequencies-2a-sessio-a-carrec-de-la-cia-moveo-dintre-del-festival-zero.html
CLASS:PUBLIC
END:VEVENT
END:VCALENDAR
