BEGIN:VCALENDAR
VERSION:2.0
CALSCALE:GREGORIAN
PRODID:-//Diputació de Barcelona//DibaCMS//EN
BEGIN:VEVENT
UID:53773
DTSTAMP:20260426T013200
DTSTART:20180411T143300
DTEND:20180411T143300
SUMMARY:XERRADA PER A LES FAMILIES "Internet Segura" a càrrec dels Mossos d'esquadra
LOCATION:C/ Josep Argila, 39 08450 Llinars del Vallés
METHOD:PUBLISH
X-WR-CALNAME:info@llinarsdelvalles.cat
X-WR-TIMEZONE:Europe/Madrid
DESCRIPTION:A Can LletresXerrada oberta a tothom amb aforament limitat
URI:https://www.llinarsdelvalles.cat/actualitat/agenda/xerrada-per-a-les-families-internet-segura-a-carrec-dels-mossos-desquadra.html
CLASS:PUBLIC
END:VEVENT
END:VCALENDAR
