BEGIN:VCALENDAR
VERSION:2.0
CALSCALE:GREGORIAN
PRODID:-//Diputació de Barcelona//DibaCMS//EN
BEGIN:VEVENT
UID:53774
DTSTAMP:20260426T041204
DTSTART:20180413T180000
DTEND:20180413T180000
SUMMARY:BIB-CREA. Espai d'experimentació i creativitat. "Marca't un punt!" taller de punts de llibre a càrrec de Laura Calero
LOCATION:Av. Pau Casals, 26 08450 Llinars del Vallès
METHOD:PUBLISH
X-WR-CALNAME:info@llinarsdelvalles.cat
X-WR-TIMEZONE:Europe/Madrid
DESCRIPTION:A la Sala d’actes de la Biblioteca
URI:https://www.llinarsdelvalles.cat/actualitat/agenda/2018-04-13-bib-crea-espai-dexperimentacio-i-creativitat-marcat-un-punt-taller-de-punts-de-llibre-a-carrec-de-laura-calero.html
CLASS:PUBLIC
END:VEVENT
END:VCALENDAR
