BEGIN:VCALENDAR
VERSION:2.0
CALSCALE:GREGORIAN
PRODID:-//Diputació de Barcelona//DibaCMS//EN
BEGIN:VEVENT
UID:53775
DTSTAMP:20260426T024937
DTSTART:20180413T193000
DTEND:20180413T193000
SUMMARY:PRESENTACIÓ DEL LLIBRE "Cases del centre històric de Santa Maria de Palautordera" a càrrec de Josep Ayats i Eduard Claver
LOCATION:Av. Pau Casals, 26 08450 Llinars del Vallès
METHOD:PUBLISH
X-WR-CALNAME:info@llinarsdelvalles.cat
X-WR-TIMEZONE:Europe/Madrid
DESCRIPTION:A la Sala d’actes de la Biblioteca
 
URI:https://www.llinarsdelvalles.cat/actualitat/agenda/2018-04-13-presentacio-del-llibre-cases-del-centre-historic-de-santa-maria-de-palautordera-a-carrec-de-josep-ayats-i-eduard-claver.html
CLASS:PUBLIC
END:VEVENT
END:VCALENDAR
