BEGIN:VCALENDAR
VERSION:2.0
CALSCALE:GREGORIAN
PRODID:-//Diputació de Barcelona//DibaCMS//EN
BEGIN:VEVENT
UID:53776
DTSTAMP:20260426T043224
DTSTART:20180414T103000
DTEND:20180414T103000
SUMMARY:CLUB DE LECTURA. GRUP A "Carol" de Patricia Highsmith a càrrec de José Luis Ibáñez
LOCATION:Av. Pau Casals, 26 08450 Llinars del Vallès
METHOD:PUBLISH
X-WR-CALNAME:info@llinarsdelvalles.cat
X-WR-TIMEZONE:Europe/Madrid
DESCRIPTION:De 10.30 a 12.30 h a la Sala d’actes de la Biblioteca
URI:https://www.llinarsdelvalles.cat/actualitat/agenda/2018-04-14-club-de-lectura-grup-a-carol-de-patricia-highsmith-a-carrec-de-jose-luis-ibanez.html
CLASS:PUBLIC
END:VEVENT
END:VCALENDAR
