BEGIN:VCALENDAR
VERSION:2.0
CALSCALE:GREGORIAN
PRODID:-//Diputació de Barcelona//DibaCMS//EN
BEGIN:VEVENT
UID:53779
DTSTAMP:20260426T043259
DTSTART:20180415T180000
DTEND:20180415T180000
SUMMARY:MÚSICA "Els tres tenors: Gala lírica"
LOCATION:Ronda Sant Antoni, 19 08450 Llinars del Vallès
METHOD:PUBLISH
X-WR-CALNAME:info@llinarsdelvalles.cat
X-WR-TIMEZONE:Europe/Madrid
DESCRIPTION:Al Teatre Auditori
URI:https://www.llinarsdelvalles.cat/actualitat/agenda/2018-04-15-musica-els-tres-tenors-gala-lirica.html
CLASS:PUBLIC
END:VEVENT
END:VCALENDAR
