BEGIN:VCALENDAR
VERSION:2.0
CALSCALE:GREGORIAN
PRODID:-//Diputació de Barcelona//DibaCMS//EN
BEGIN:VEVENT
UID:53785
DTSTAMP:20260426T035316
DTSTART:20180422T103000
DTEND:20180422T103000
SUMMARY:PRESENTACIÓ DE LA MULASSA la nova bèstia de la Colla Gegantera La Patufa
LOCATION:
METHOD:PUBLISH
X-WR-CALNAME:info@llinarsdelvalles.cat
X-WR-TIMEZONE:Europe/Madrid
DESCRIPTION:Inici a la plaça dels Països Catalans
URI:https://www.llinarsdelvalles.cat/actualitat/agenda/2018-03-21-.html
CLASS:PUBLIC
END:VEVENT
END:VCALENDAR
