BEGIN:VCALENDAR
VERSION:2.0
CALSCALE:GREGORIAN
PRODID:-//Diputació de Barcelona//DibaCMS//EN
BEGIN:VEVENT
UID:53786
DTSTAMP:20260426T024535
DTSTART:20180422T090000
DTEND:20180422T090000
SUMMARY:7è APLEC DE LA TORRASSA
LOCATION:08450 Llinars del Vallès
METHOD:PUBLISH
X-WR-CALNAME:info@llinarsdelvalles.cat
X-WR-TIMEZONE:Europe/Madrid
DESCRIPTION:A La Torrassa a partir de les 9 h
URI:https://www.llinarsdelvalles.cat/actualitat/agenda/2018-04-22-7e-aplec-de-la-torrassa.html
CLASS:PUBLIC
END:VEVENT
END:VCALENDAR
