BEGIN:VCALENDAR
VERSION:2.0
CALSCALE:GREGORIAN
PRODID:-//Diputació de Barcelona//DibaCMS//EN
BEGIN:VEVENT
UID:53793
DTSTAMP:20260426T041608
DTSTART:20180517T200000
DTEND:20180517T200000
SUMMARY:CONFERÈNCIA Com afrontar les emocions dels nostres fills/es, a càrrec de Marta Prims Terradas
LOCATION:C/ Josep Argila, 39 08450 Llinars del Vallés
METHOD:PUBLISH
X-WR-CALNAME:info@llinarsdelvalles.cat
X-WR-TIMEZONE:Europe/Madrid
DESCRIPTION:a Can Lletres
URI:https://www.llinarsdelvalles.cat/actualitat/agenda/conferencia-emocions.html
CLASS:PUBLIC
END:VEVENT
END:VCALENDAR
