BEGIN:VCALENDAR
VERSION:2.0
CALSCALE:GREGORIAN
PRODID:-//Diputació de Barcelona//DibaCMS//EN
BEGIN:VEVENT
UID:53795
DTSTAMP:20260426T060003
DTSTART:20180404T100000
DTEND:20180404T100000
SUMMARY:CAMINADA des del CAP Llinars fins a la bàscula de Sant Antoni de Vilamajor. Activitat en el marc del Dia Mundial de l'Activitat Física.
LOCATION:
METHOD:PUBLISH
X-WR-CALNAME:info@llinarsdelvalles.cat
X-WR-TIMEZONE:Europe/Madrid
DESCRIPTION:3 km a peu aprox.
URI:https://www.llinarsdelvalles.cat/actualitat/agenda/2018-04-04-caminada-des-del-cap-llinars-fins-a-la-bascula-de-sant-antoni-de-vilamajor-activitat-en-el-marc-del-dia-mundial-de-lactivitat-fisica.html
CLASS:PUBLIC
END:VEVENT
END:VCALENDAR
