BEGIN:VCALENDAR
VERSION:2.0
CALSCALE:GREGORIAN
PRODID:-//Diputació de Barcelona//DibaCMS//EN
BEGIN:VEVENT
UID:53796
DTSTAMP:20260426T043244
DTSTART:20180407T103000
DTEND:20180407T103000
SUMMARY:CAMINADA FAMILIAR des de la plaça de la Vila de Llinars fins a la plaça de la Vila de Vilalba. Activitat en el marc del Dia Mundial de l'Activitat Física
LOCATION:
METHOD:PUBLISH
X-WR-CALNAME:info@llinarsdelvalles.cat
X-WR-TIMEZONE:Europe/Madrid
DESCRIPTION:4 km a peu pla aprox.
URI:https://www.llinarsdelvalles.cat/actualitat/agenda/2018-04-07-caminada-familiar-des-de-la-placa-de-la-vila-de-llinars-fins-a-la-placa-de-la-vila-de-vilalba-activitat-en-el-marc-del-dia-mundial-de-lactivitat-fisica.html
CLASS:PUBLIC
END:VEVENT
END:VCALENDAR
