BEGIN:VCALENDAR
VERSION:2.0
CALSCALE:GREGORIAN
PRODID:-//Diputació de Barcelona//DibaCMS//EN
BEGIN:VEVENT
UID:53801
DTSTAMP:20260426T041123
DTSTART:20180407T220000
DTEND:20180407T220000
SUMMARY:SUBSVERSIONS amb Jaume Galve i Albert Hirujo, una passejada geogràfica per la cançó d'autor dels Països Catalans a l'Amèrica llatina
LOCATION:
METHOD:PUBLISH
X-WR-CALNAME:info@llinarsdelvalles.cat
X-WR-TIMEZONE:Europe/Madrid
DESCRIPTION:A la Capella de Mas Bagà
URI:https://www.llinarsdelvalles.cat/actualitat/agenda/subsversions-amb-jaume-galve-i-albert-hirujo-una-passejada-geografica-per-la-canco-dautor-dels-paisos-catalans-a-lamerica-llatina.html
CLASS:PUBLIC
END:VEVENT
END:VCALENDAR
