BEGIN:VCALENDAR
VERSION:2.0
CALSCALE:GREGORIAN
PRODID:-//DiputaciÃ³ de Barcelona//DibaCMS//EN
BEGIN:VEVENT
UID:53810
DTSTAMP:20260426T041426
DTSTART:20180422T180000
DTEND:20180422T180000
SUMMARY:GRAN CONCERT DE GOSPELIANS DE GIRONA per celebrar el 15 aniversari de la Biblioteca
LOCATION:A la plaça dels Països Catalans 
METHOD:PUBLISH
X-WR-CALNAME:info@llinarsdelvalles.cat
X-WR-TIMEZONE:Europe/Madrid
DESCRIPTION:A la plaÃ§a dels PaÃ¯sos Catalans
URI:https://www.llinarsdelvalles.cat/actualitat/agenda/2018-04-22-gran-concert-de-gospelians-de-girona-per-celebrar-el-15-aniversari-de-la-biblioteca.html
CLASS:PUBLIC
END:VEVENT
END:VCALENDAR
