BEGIN:VCALENDAR
VERSION:2.0
CALSCALE:GREGORIAN
PRODID:-//Diputació de Barcelona//DibaCMS//EN
BEGIN:VEVENT
UID:53812
DTSTAMP:20260426T000532
DTSTART:20180411T180000
DTEND:20180411T180000
SUMMARY:XERRADA Internet segura? a càrrec dels Mossos d'Esquadra
LOCATION:
METHOD:PUBLISH
X-WR-CALNAME:info@llinarsdelvalles.cat
X-WR-TIMEZONE:Europe/Madrid
DESCRIPTION:A Can Lletres
URI:https://www.llinarsdelvalles.cat/actualitat/agenda/2018-04-11-xerrada-internet-segura-a-carrec-dels-mossos-desquadra.html
CLASS:PUBLIC
END:VEVENT
END:VCALENDAR
