BEGIN:VCALENDAR
VERSION:2.0
CALSCALE:GREGORIAN
PRODID:-//Diputació de Barcelona//DibaCMS//EN
BEGIN:VEVENT
UID:53814
DTSTAMP:20260426T025440
DTSTART:20180414T170000
DTEND:20180414T170000
SUMMARY:AQUAFAMILY a l'Esportiu
LOCATION:Av. Pau Casals s/n 08450 Llinars del Vallès
METHOD:PUBLISH
X-WR-CALNAME:info@llinarsdelvalles.cat
X-WR-TIMEZONE:Europe/Madrid
DESCRIPTION:Passa la tarda de dissabte en família a l’Aquafamily de l’Esportiu
URI:https://www.llinarsdelvalles.cat/actualitat/agenda/2018-04-14-aquafamily-a-lesportiu.html
CLASS:PUBLIC
END:VEVENT
END:VCALENDAR
