BEGIN:VCALENDAR
VERSION:2.0
CALSCALE:GREGORIAN
PRODID:-//Diputació de Barcelona//DibaCMS//EN
BEGIN:VEVENT
UID:53836
DTSTAMP:20260426T000459
DTSTART:20180418T170000
DTEND:20180418T170000
SUMMARY:TAULA RODONA del Punt Dona
LOCATION:C/ Mas Bagà, 24 08450 Llinars del Vallés
METHOD:PUBLISH
X-WR-CALNAME:info@llinarsdelvalles.cat
X-WR-TIMEZONE:Europe/Madrid
DESCRIPTION:A Can Mas Bagà
URI:https://www.llinarsdelvalles.cat/actualitat/agenda/2018-04-18-taula-rodona-del-punt-dona.html
CLASS:PUBLIC
END:VEVENT
END:VCALENDAR
