BEGIN:VCALENDAR
VERSION:2.0
CALSCALE:GREGORIAN
PRODID:-//Diputació de Barcelona//DibaCMS//EN
BEGIN:VEVENT
UID:53837
DTSTAMP:20260426T054736
DTSTART:20180419T190000
DTEND:20180419T190000
SUMMARY:LLETRES EN VIU. Parlem amb Xavier Bosch
LOCATION:Av. Pau Casals, 26 08450 Llinars del Vallès
METHOD:PUBLISH
X-WR-CALNAME:info@llinarsdelvalles.cat
X-WR-TIMEZONE:Europe/Madrid
DESCRIPTION:Conduirà l'acte Cristina Fernández, periodista/professora de la UVIC.
A la Biblioteca.
URI:https://www.llinarsdelvalles.cat/actualitat/agenda/lletres-en-viu-parlem-amb-xavier-bosch.html
CLASS:PUBLIC
END:VEVENT
END:VCALENDAR
