BEGIN:VCALENDAR
VERSION:2.0
CALSCALE:GREGORIAN
PRODID:-//Diputació de Barcelona//DibaCMS//EN
BEGIN:VEVENT
UID:53839
DTSTAMP:20260426T000128
DTSTART:20180420T220000
DTEND:20180420T220000
SUMMARY:TEATRE "Othelo" amb els Mika Project
LOCATION:Ronda Sant Antoni, 19 08450 Llinars del Vallès
METHOD:PUBLISH
X-WR-CALNAME:info@llinarsdelvalles.cat
X-WR-TIMEZONE:Europe/Madrid
DESCRIPTION:Al Teatre Auditori
URI:https://www.llinarsdelvalles.cat/actualitat/agenda/teatre-othelo.html
CLASS:PUBLIC
END:VEVENT
END:VCALENDAR
