BEGIN:VCALENDAR
VERSION:2.0
CALSCALE:GREGORIAN
PRODID:-//Diputació de Barcelona//DibaCMS//EN
BEGIN:VEVENT
UID:53840
DTSTAMP:20260426T025318
DTSTART:20180421T180000
DTEND:20180421T180000
SUMMARY:TEATRE "Políticament correcte" a càrrec de Catarsi Teatre
LOCATION:Ronda Sant Antoni, 19 08450 Llinars del Vallès
METHOD:PUBLISH
X-WR-CALNAME:info@llinarsdelvalles.cat
X-WR-TIMEZONE:Europe/Madrid
DESCRIPTION:Al Teatre Auditori
URI:https://www.llinarsdelvalles.cat/actualitat/agenda/2018-04-21-teatre-politicament-correcte-a-carrec-de-catarsi-teatre.html
CLASS:PUBLIC
END:VEVENT
END:VCALENDAR
