BEGIN:VCALENDAR
VERSION:2.0
CALSCALE:GREGORIAN
PRODID:-//Diputació de Barcelona//DibaCMS//EN
BEGIN:VEVENT
UID:53841
DTSTAMP:20260426T000423
DTSTART:20180421T103000
DTEND:20180421T103000
SUMMARY:CLUB DE LECTURA. GRUP B "Carol" de Patricia Highsmith a càrrec de José Luis Ibáñez
LOCATION:Av. Pau Casals, 26 08450 Llinars del Vallès
METHOD:PUBLISH
X-WR-CALNAME:info@llinarsdelvalles.cat
X-WR-TIMEZONE:Europe/Madrid
DESCRIPTION:
URI:https://www.llinarsdelvalles.cat/actualitat/agenda/2018-04-21-club-de-lectura-grup-b-carol-de-patricia-highsmith-a-carrec-de-jose-luis-ibanez.html
CLASS:PUBLIC
END:VEVENT
END:VCALENDAR
