BEGIN:VCALENDAR
VERSION:2.0
CALSCALE:GREGORIAN
PRODID:-//Diputació de Barcelona//DibaCMS//EN
BEGIN:VEVENT
UID:53842
DTSTAMP:20260425T223728
DTSTART:20180421T110000
DTEND:20180421T110000
SUMMARY:TALLER DE RISOTERÀPIA
LOCATION:
METHOD:PUBLISH
X-WR-CALNAME:info@llinarsdelvalles.cat
X-WR-TIMEZONE:Europe/Madrid
DESCRIPTION:A Can Lletres
URI:https://www.llinarsdelvalles.cat/actualitat/agenda/taller-de-risoterapia.html
CLASS:PUBLIC
END:VEVENT
END:VCALENDAR
